BEGIN:VCALENDAR
VERSION:2.0
PRODID:-//OpenUp! - ECPv6.15.12.2//NONSGML v1.0//EN
CALSCALE:GREGORIAN
METHOD:PUBLISH
X-ORIGINAL-URL:http://openup.ait.co.at
X-WR-CALDESC:Events for OpenUp!
REFRESH-INTERVAL;VALUE=DURATION:PT1H
X-Robots-Tag:noindex
X-PUBLISHED-TTL:PT1H
BEGIN:VTIMEZONE
TZID:UTC
BEGIN:STANDARD
TZOFFSETFROM:+0000
TZOFFSETTO:+0000
TZNAME:UTC
DTSTART:20220101T000000
END:STANDARD
END:VTIMEZONE
BEGIN:VEVENT
DTSTART;TZID=UTC:20230615T090000
DTEND;TZID=UTC:20230615T120000
DTSTAMP:20260420T225017
CREATED:20230612T081055Z
LAST-MODIFIED:20230612T081055Z
UID:1236-1686819600-1686830400@openup.ait.co.at
SUMMARY:Europeana Aggregator's Forum Outreach Event
DESCRIPTION:Join this event – organised by the Europeana Aggregators’ Forum – to discover the role which aggregators and cultural heritage institutions play in publishing and processing data on Europeana’s infrastructure and in the common European data space for cultural heritage.
URL:http://openup.ait.co.at/event/europeana-aggregators-forum-outreach-event/
LOCATION:Online
CATEGORIES:Europeana Promotion
ATTACH;FMTTYPE=image/png:http://openup.ait.co.at/wp-content/uploads/2023/06/Screenshot-2023-06-12-101006.png
END:VEVENT
BEGIN:VEVENT
DTSTART;TZID=UTC:20230619T100000
DTEND;TZID=UTC:20230619T170000
DTSTAMP:20260420T225017
CREATED:20230612T081500Z
LAST-MODIFIED:20230612T081500Z
UID:1242-1687168800-1687194000@openup.ait.co.at
SUMMARY:Preserving heritage\, inspiring tourism: Building on the Europeana - Cultural Routes of Europe collaboration
DESCRIPTION:The event will bring together professionals with interest in cultural heritage and tourism and aims to inspire participants to build strong connections and explore viable collaborations. It is organised by the Europeana Foundation\, Jewish Heritage Network and The European Association for the Preservation and Promotion of Jewish Culture and Heritage (AEPJ).
URL:http://openup.ait.co.at/event/preserving-heritage-inspiring-tourism-building-on-the-europeana-cultural-routes-of-europe-collaboration/
LOCATION:Online
CATEGORIES:Europeana Promotion
ATTACH;FMTTYPE=image/png:http://openup.ait.co.at/wp-content/uploads/2023/06/Screenshot-2023-06-12-101429.png
END:VEVENT
BEGIN:VEVENT
DTSTART;TZID=UTC:20230621T110000
DTEND;TZID=UTC:20230621T120000
DTSTAMP:20260420T225017
CREATED:20230612T083609Z
LAST-MODIFIED:20230612T083609Z
UID:1271-1687345200-1687348800@openup.ait.co.at
SUMMARY:EuropeanaTech presents: Acoustics in cultural heritage v2.0
DESCRIPTION:This webinar\, organised by EuropeanaTech\, highlights a topic highly relevant to the cultural heritage sector: acoustics and the preservation and presentation of historic acoustic spaces.
URL:http://openup.ait.co.at/event/europeanatech-presents-acoustics-in-cultural-heritage-v2-0/
LOCATION:Online
CATEGORIES:Europeana Tech
END:VEVENT
BEGIN:VEVENT
DTSTART;TZID=UTC:20230622T090000
DTEND;TZID=UTC:20230622T160000
DTSTAMP:20260420T225017
CREATED:20230612T082348Z
LAST-MODIFIED:20230612T082348Z
UID:1251-1687424400-1687449600@openup.ait.co.at
SUMMARY:CRAFTED: Enrich and promote traditional and contemporary crafts
DESCRIPTION:Join the final conference of the CRAFTED Project to discover its results and achievements!
URL:http://openup.ait.co.at/event/crafted-enrich-and-promote-traditional-and-contemporary-crafts/
LOCATION:Mobilier National\, 42 Avenue des Gobelins\, Paris\, 75013\, France
CATEGORIES:Europeana Promotion
ATTACH;FMTTYPE=image/png:http://openup.ait.co.at/wp-content/uploads/2023/06/Screenshot-2023-06-12-102304.png
END:VEVENT
BEGIN:VEVENT
DTSTART;TZID=UTC:20230630T000000
DTEND;TZID=UTC:20230701T000000
DTSTAMP:20260420T225017
CREATED:20230619T105708Z
LAST-MODIFIED:20230619T105708Z
UID:1279-1688083200-1688169600@openup.ait.co.at
SUMMARY:Europeana Low-Code Fest
DESCRIPTION:Inspired by examples like DigiEduhack and the Social Hackathon Umbria\, the Europeana Education Community invites you to the Europeana social and educational low-code hackathon – Low-Code Fest! \nIn this annual event we invite educators and cultural heritage professionals to prototype with their students an educational and social innovative product using Europeana’s APIs. This programme and series of events aims to engage teachers\, educators and their students to co-develop solutions to social challenges and/or enhance educational processes and practices.
URL:http://openup.ait.co.at/event/europeana-low-code-fest/
CATEGORIES:Europeana Tech
ATTACH;FMTTYPE=image/png:http://openup.ait.co.at/wp-content/uploads/2023/06/Screenshot-2023-06-19-125557.png
END:VEVENT
END:VCALENDAR