BEGIN:VCALENDAR
VERSION:2.0
PRODID:-//OpenUp! - ECPv6.15.12.2//NONSGML v1.0//EN
CALSCALE:GREGORIAN
METHOD:PUBLISH
X-WR-CALNAME:OpenUp!
X-ORIGINAL-URL:http://openup.ait.co.at
X-WR-CALDESC:Events for OpenUp!
REFRESH-INTERVAL;VALUE=DURATION:PT1H
X-Robots-Tag:noindex
X-PUBLISHED-TTL:PT1H
BEGIN:VTIMEZONE
TZID:UTC
BEGIN:STANDARD
TZOFFSETFROM:+0000
TZOFFSETTO:+0000
TZNAME:UTC
DTSTART:20230101T000000
END:STANDARD
END:VTIMEZONE
BEGIN:VEVENT
DTSTART;VALUE=DATE:20240219
DTEND;VALUE=DATE:20240221
DTSTAMP:20260420T082148
CREATED:20240108T091351Z
LAST-MODIFIED:20240108T091351Z
UID:2054-1708300800-1708473599@openup.ait.co.at
SUMMARY:Collections as Data: collaborating across data spaces for cultural heritage and open science
DESCRIPTION:The event is organised by the Royal Library of Belgium and the Europeana Foundation. It offers European national libraries a unique opportunity to explore and discuss their role in the common Europeana data space for cultural heritage and beyond. \nIt takes place in the Royal Library of Belgium and focuses on Collections as Data. \nMore information about the programme and how to participate in the event will be published shortly on Europeana.
URL:http://openup.ait.co.at/event/collections-as-data-collaborating-across-data-spaces-for-cultural-heritage-and-open-science/
LOCATION:Royal Library of Belgium
CATEGORIES:Europeana,GLAM & IT events
ATTACH;FMTTYPE=image/png:http://openup.ait.co.at/wp-content/uploads/2024/01/Screenshot-2024-01-08-at-10-12-50-Collections-as-Data-collaborating-across-data-spaces-for-cultural-heritage-and-open-science-Europeana-PRO.png
END:VEVENT
BEGIN:VEVENT
DTSTART;TZID=UTC:20240220T170000
DTEND;TZID=UTC:20240220T180000
DTSTAMP:20260420T082148
CREATED:20231113T144148Z
LAST-MODIFIED:20231113T144148Z
UID:1927-1708448400-1708452000@openup.ait.co.at
SUMMARY:Copyright office hours on collective rights management
DESCRIPTION:Join this copyright office hours session to discuss collective rights management: understanding how this type of licensing works\, when it is suitable\, and how to best negotiate licensing conditions\, with peers and experts in the copyright community. \nThe webinar\, organized by the Europeana Copyright Community\, will be held online. \nRegister now!
URL:http://openup.ait.co.at/event/copyright-office-hours-on-collective-rights-management-2/
LOCATION:Online
CATEGORIES:Europeana Copyright
ATTACH;FMTTYPE=image/png:http://openup.ait.co.at/wp-content/uploads/2023/11/Screenshot-2023-11-13-at-15-41-13-Copyright-office-hours-on-collective-rights-management-Europeana-PRO.png
END:VEVENT
BEGIN:VEVENT
DTSTART;TZID=UTC:20240221T150000
DTEND;TZID=UTC:20240221T160000
DTSTAMP:20260420T082148
CREATED:20240117T095056Z
LAST-MODIFIED:20240117T095056Z
UID:2094-1708527600-1708531200@openup.ait.co.at
SUMMARY:Creative Online Residency 2024 - Information Session
DESCRIPTION:Join us to find out all you need to know to apply for this year’s Digital Storytelling Festival Creative Online Residency! \nThe online information session will start at 3 p.m.\, February 21st. The Digital Storytelling festival is organised every year by the Europeana Initiative and encourages cultural heritage professionals\, educators\, creatives and students from Europe and beyond too improve their storytelling skills connected to culture and education. \nRegister here for the information session!
URL:http://openup.ait.co.at/event/creative-online-residency-2024-information-session/
LOCATION:Online
CATEGORIES:Education & Innovation,Europeana,Europeana Promotion
ATTACH;FMTTYPE=image/png:http://openup.ait.co.at/wp-content/uploads/2024/01/Screenshot-2024-01-17-at-10-48-19-Creative-Online-Residency-2024-Information-Session-Europeana-PRO.png
END:VEVENT
END:VCALENDAR