BEGIN:VCALENDAR
VERSION:2.0
PRODID:-//OpenUp! - ECPv6.15.12.2//NONSGML v1.0//EN
CALSCALE:GREGORIAN
METHOD:PUBLISH
X-WR-CALNAME:OpenUp!
X-ORIGINAL-URL:http://openup.ait.co.at
X-WR-CALDESC:Events for OpenUp!
REFRESH-INTERVAL;VALUE=DURATION:PT1H
X-Robots-Tag:noindex
X-PUBLISHED-TTL:PT1H
BEGIN:VTIMEZONE
TZID:UTC
BEGIN:STANDARD
TZOFFSETFROM:+0000
TZOFFSETTO:+0000
TZNAME:UTC
DTSTART:20220101T000000
END:STANDARD
END:VTIMEZONE
BEGIN:VEVENT
DTSTART;TZID=UTC:20230719T130000
DTEND;TZID=UTC:20230719T140000
DTSTAMP:20260421T001756
CREATED:20230612T082846Z
LAST-MODIFIED:20230612T082846Z
UID:1265-1689771600-1689775200@openup.ait.co.at
SUMMARY:Policy office hours on open access\, copyright and ethics
DESCRIPTION:Join this copyright office hours session to discuss open access\, copyright and ethics: a discussion on the intersection between the lack of copyright limitations and ethical reuse\, with peers and experts in the copyright community.
URL:http://openup.ait.co.at/event/policy-office-hours-on-open-access-copyright-and-ethics/
LOCATION:Online
CATEGORIES:Europeana Copyright
ATTACH;FMTTYPE=image/png:http://openup.ait.co.at/wp-content/uploads/2023/06/Screenshot-2023-06-12-102817.png
END:VEVENT
END:VCALENDAR