BEGIN:VCALENDAR
VERSION:2.0
PRODID:-//OpenUp! - ECPv6.15.12.2//NONSGML v1.0//EN
CALSCALE:GREGORIAN
METHOD:PUBLISH
X-ORIGINAL-URL:http://openup.ait.co.at
X-WR-CALDESC:Events for OpenUp!
REFRESH-INTERVAL;VALUE=DURATION:PT1H
X-Robots-Tag:noindex
X-PUBLISHED-TTL:PT1H
BEGIN:VTIMEZONE
TZID:UTC
BEGIN:STANDARD
TZOFFSETFROM:+0000
TZOFFSETTO:+0000
TZNAME:UTC
DTSTART:20220101T000000
END:STANDARD
END:VTIMEZONE
BEGIN:VEVENT
DTSTART;TZID=UTC:20230927T140000
DTEND;TZID=UTC:20230927T150000
DTSTAMP:20260420T175918
CREATED:20230904T073311Z
LAST-MODIFIED:20230904T073311Z
UID:1625-1695823200-1695826800@openup.ait.co.at
SUMMARY:Europeana Impact Community Café - Collecting the data that matters: impact and digital cultural heritage
DESCRIPTION:We need reliable data on digitisation. Where are we at the national\, international and conceptual level? In this Impact Community Café\, we’re welcoming participants for an open conversation about what we know\, and don’t know\, about the digitisation of Europe’s heritage collections and its impact. \nThe event will be organised by the Europeana community. \nRegister now!
URL:http://openup.ait.co.at/event/europeana-impact-community-cafe-collecting-the-data-that-matters-impact-and-digital-cultural-heritage/
LOCATION:Online
CATEGORIES:Europeana Promotion
ATTACH;FMTTYPE=image/png:http://openup.ait.co.at/wp-content/uploads/2023/09/Screenshot-2023-09-04-at-09-32-39-Europeana-Impact-Community-Cafe-Collecting-the-data-that-matters-impact-and-digital-cultural-heritage-Europeana-PRO.png
END:VEVENT
END:VCALENDAR