BEGIN:VCALENDAR
VERSION:2.0
PRODID:-//OpenUp! - ECPv6.15.12.2//NONSGML v1.0//EN
CALSCALE:GREGORIAN
METHOD:PUBLISH
X-ORIGINAL-URL:http://openup.ait.co.at
X-WR-CALDESC:Events for OpenUp!
REFRESH-INTERVAL;VALUE=DURATION:PT1H
X-Robots-Tag:noindex
X-PUBLISHED-TTL:PT1H
BEGIN:VTIMEZONE
TZID:UTC
BEGIN:STANDARD
TZOFFSETFROM:+0000
TZOFFSETTO:+0000
TZNAME:UTC
DTSTART:20220101T000000
END:STANDARD
END:VTIMEZONE
BEGIN:VEVENT
DTSTART;TZID=UTC:20231122T130000
DTEND;TZID=UTC:20231122T140000
DTSTAMP:20260420T162803
CREATED:20231113T140648Z
LAST-MODIFIED:20231113T140648Z
UID:1910-1700658000-1700661600@openup.ait.co.at
SUMMARY:EuropeanaTech presents: Acoustics and sound in cultural heritage
DESCRIPTION:This webinar\, organised by EuropeanaTech\, highlights a topic highly relevant to the cultural heritage sector: acoustics and the preservation and presentation of historic acoustic spaces. \nThe webinar on Nov 22 will be held online. \nRegister now!
URL:http://openup.ait.co.at/event/europeanatech-presents-acoustics-and-sound-in-cultural-heritage/
LOCATION:Online
CATEGORIES:Europeana Tech
ATTACH;FMTTYPE=image/png:http://openup.ait.co.at/wp-content/uploads/2023/11/Screenshot-2023-11-13-at-15-04-59-EuropeanaTech-presents-Acoustics-and-sound-in-cultural-heritage-Europeana-PRO.png
END:VEVENT
BEGIN:VEVENT
DTSTART;TZID=UTC:20231122T140000
DTEND;TZID=UTC:20231122T150000
DTSTAMP:20260420T162803
CREATED:20231025T093310Z
LAST-MODIFIED:20231025T093545Z
UID:1764-1700661600-1700665200@openup.ait.co.at
SUMMARY:Europeana Impact Café Explore the Europeana Impact Playbook\, Phase two
DESCRIPTION:Join this Café from the Europeana Impact Community\, focusing on Phase two of the Europeana Impact Playbook. \nThe Europeana Initiative started talking about impact over a decade ago. They want to bring you along on this impact journey by introducing the revised Impact Playbook. The Impact Cafés will give you the opportunity to come together and chat about your experiences or plans with the Impact Playbook. \nPhase two is dedicated to measuring impact.
URL:http://openup.ait.co.at/event/europeana-impact-cafe-explore-the-europeana-impact-playbook-phase-two/
LOCATION:Online
CATEGORIES:Europeana Promotion
ATTACH;FMTTYPE=image/png:http://openup.ait.co.at/wp-content/uploads/2023/10/Screenshot-2023-10-25-at-11-31-11-Europeana-Impact-Cafe-Explore-the-Europeana-Impact-Playbook-Phase-two-Europeana-PRO.png
END:VEVENT
END:VCALENDAR