BEGIN:VCALENDAR
VERSION:2.0
PRODID:-//OpenUp! - ECPv6.15.12.2//NONSGML v1.0//EN
CALSCALE:GREGORIAN
METHOD:PUBLISH
X-WR-CALNAME:OpenUp!
X-ORIGINAL-URL:http://openup.ait.co.at
X-WR-CALDESC:Events for OpenUp!
REFRESH-INTERVAL;VALUE=DURATION:PT1H
X-Robots-Tag:noindex
X-PUBLISHED-TTL:PT1H
BEGIN:VTIMEZONE
TZID:UTC
BEGIN:STANDARD
TZOFFSETFROM:+0000
TZOFFSETTO:+0000
TZNAME:UTC
DTSTART:20230101T000000
END:STANDARD
END:VTIMEZONE
BEGIN:VEVENT
DTSTART;TZID=UTC:20240514T134500
DTEND;TZID=UTC:20240514T163000
DTSTAMP:20260420T051131
CREATED:20240403T101350Z
LAST-MODIFIED:20240403T101350Z
UID:2310-1715694300-1715704200@openup.ait.co.at
SUMMARY:TwinIt! 3D for Europe's culture campaign
DESCRIPTION:The event is organised by Europeana and takes place on May 14th in Brussels. The aim is to showcase the achievements of the TwinIt! 3D for Europe’s culture campaign until now. \nThe focus lies on the developments in the approach to 3D digitisation and those that are yet to come. \nMore information about the event will arrive soon!
URL:http://openup.ait.co.at/event/twinit-3d-for-europes-culture-campaign/
LOCATION:European Commission\, Brussels\, Belgium
CATEGORIES:Europeana Tech
ATTACH;FMTTYPE=image/png:http://openup.ait.co.at/wp-content/uploads/2023/06/Twitter-post.png
END:VEVENT
BEGIN:VEVENT
DTSTART;TZID=UTC:20240514T143000
DTEND;TZID=UTC:20240514T173000
DTSTAMP:20260420T051131
CREATED:20240408T094121Z
LAST-MODIFIED:20240408T094121Z
UID:2318-1715697000-1715707800@openup.ait.co.at
SUMMARY:What’s next for Digital Skills? Beyond the European Year of Skills and the European Elections
DESCRIPTION:The ALL DIGITAL Weeks 2024 launch event is taking place in Brussels and includes a panel discussion on Digital Skills in modern society\, focusing on Equity\, Citizenship\, Entrepreneurship and Cybersecurity. \nThe event series runs from 13th to 31st May and is co-funded by the European Union. For more information about ALL DIGITAL visit the event’s website.
URL:http://openup.ait.co.at/event/whats-next-for-digital-skills-beyond-the-european-year-of-skills-and-the-european-elections/
LOCATION:Microsoft Center Brussels\, Rue Montoyer 51\, Brussels\, Belgium
CATEGORIES:Education & Innovation,Europeana
ATTACH;FMTTYPE=image/png:http://openup.ait.co.at/wp-content/uploads/2024/04/Screenshot-2024-04-08-at-11-30-51-Whats-next-for-Digital-Skills-Beyond-the-European-Year-of-Skills-and-the-European-Elections-Europeana-PRO.png
END:VEVENT
END:VCALENDAR