BEGIN:VCALENDAR
VERSION:2.0
PRODID:-//OpenUp! - ECPv6.15.12.2//NONSGML v1.0//EN
CALSCALE:GREGORIAN
METHOD:PUBLISH
X-ORIGINAL-URL:http://openup.ait.co.at
X-WR-CALDESC:Events for OpenUp!
REFRESH-INTERVAL;VALUE=DURATION:PT1H
X-Robots-Tag:noindex
X-PUBLISHED-TTL:PT1H
BEGIN:VTIMEZONE
TZID:UTC
BEGIN:STANDARD
TZOFFSETFROM:+0000
TZOFFSETTO:+0000
TZNAME:UTC
DTSTART:20230101T000000
END:STANDARD
END:VTIMEZONE
BEGIN:VEVENT
DTSTART;TZID=UTC:20240521T090000
DTEND;TZID=UTC:20240522T140000
DTSTAMP:20260420T051201
CREATED:20240124T100200Z
LAST-MODIFIED:20240124T100200Z
UID:2117-1716282000-1716386400@openup.ait.co.at
SUMMARY:Digital Storytelling Festival
DESCRIPTION:Join the Digital Storytelling Festival – organised by the Europeana Initiative – to boost your storytelling skill and tell stories about culture! \nThe annual event takes place from May 21st to 22nd 2024 and is organised by the Europeana Initiative. \nRegister now!
URL:http://openup.ait.co.at/event/digital-storytelling-festival/
LOCATION:Online
CATEGORIES:Education & Innovation,Europeana
ATTACH;FMTTYPE=image/png:http://openup.ait.co.at/wp-content/uploads/2024/01/Screenshot-2024-01-24-at-10-48-07-Digital-Storytelling-Festival-2024-Europeana-PRO.png
END:VEVENT
END:VCALENDAR