BEGIN:VCALENDAR
VERSION:2.0
PRODID:-//OpenUp! - ECPv6.15.12.2//NONSGML v1.0//EN
CALSCALE:GREGORIAN
METHOD:PUBLISH
X-ORIGINAL-URL:http://openup.ait.co.at
X-WR-CALDESC:Events for OpenUp!
REFRESH-INTERVAL;VALUE=DURATION:PT1H
X-Robots-Tag:noindex
X-PUBLISHED-TTL:PT1H
BEGIN:VTIMEZONE
TZID:UTC
BEGIN:STANDARD
TZOFFSETFROM:+0000
TZOFFSETTO:+0000
TZNAME:UTC
DTSTART:20210101T000000
END:STANDARD
END:VTIMEZONE
BEGIN:VTIMEZONE
TZID:UTC
BEGIN:STANDARD
TZOFFSETFROM:+0000
TZOFFSETTO:+0000
TZNAME:UTC
DTSTART:20210101T000000
END:STANDARD
END:VTIMEZONE
BEGIN:VEVENT
DTSTART;VALUE=DATE:20220606
DTEND;VALUE=DATE:20220609
DTSTAMP:20260420T113303
CREATED:20220114T110353Z
LAST-MODIFIED:20220119T115914Z
UID:224-1654473600-1654732799@openup.ait.co.at
SUMMARY:2022 IIIF Annual Conference
DESCRIPTION:The 2022 International Image Interoperability Framework (IIIF) Annual Conference will be held in-person in Cambridge\, MA (USA) June 6-8. The conference will be co-hosted by Harvard University and the Massachusetts Institute of Technology (MIT).
URL:http://openup.ait.co.at/event/2022-iiif-annual-conference/
LOCATION:Harvard University\, Harvard University\, Cambridge\, MA\, United States
CATEGORIES:GLAM & IT events
ATTACH;FMTTYPE=image/png:http://openup.ait.co.at/wp-content/uploads/2022/01/iiif.png
END:VEVENT
BEGIN:VEVENT
DTSTART;VALUE=DATE:20220606
DTEND;VALUE=DATE:20220610
DTSTAMP:20260420T113303
CREATED:20220203T100854Z
LAST-MODIFIED:20220203T101112Z
UID:771-1654473600-1654819199@openup.ait.co.at
SUMMARY:Open Repositories 2022
DESCRIPTION:Building Trust Together: Integrating\, Collaborating & Sharing\nOR2022 will provide an opportunity to explore and reflect on the ways repositories enable trust\, integration\, collaboration and sharing. It will give participants new insights and inspiration\, which will play a key role in developing\, supporting and sharing an open agenda and open tools for research and scholarship.
URL:http://openup.ait.co.at/event/open-repositories-2022/
LOCATION:Auraria Campus\, Denver
CATEGORIES:GLAM & IT events
ATTACH;FMTTYPE=image/png:http://openup.ait.co.at/wp-content/uploads/2022/02/openrepositories.png
END:VEVENT
END:VCALENDAR